BEGIN:VCALENDAR
VERSION:2.0
PRODID:-//eventon.com NONSGML v1.0//EN
CALSCALE:GREGORIAN
METHOD:PUBLISH
BEGIN:VEVENT
UID:69e89b29e471f
DTSTAMP:20260422T095553Z
DTSTART:20260620T120000Z
DTEND:20260621T000000Z
LOCATION:PGD Šalka vas - gasilski dom Šalka vas 50\,  1330 Kočevje
SUMMARY:Tekmovanje SSV in gasilska veselica PGD Šalka vas 2026
DESCRIPTION:Tradicionalno tekmovanje v spajanju sesalnega voda (SSV) za čl
 ane in članice pod šotorm na gasilskem poligonu pri gasilskem domu v Šal
 ki vasi. Po tekmovanju sledi gasilska veselica s skupino CALYPSO!\nhttps://
 gzkocevje.si/dogodek/tekmovanje-ssv-in-gasilska-veselica-pgd-salka-vas-2026
 /
URL:https://gzkocevje.si/dogodek/tekmovanje-ssv-in-gasilska-veselica-pgd-salka-vas-2026/
END:VEVENT
END:VCALENDAR